BEGIN:VCALENDAR
VERSION:2.0
PRODID:-//OneGov//onegov.event//
BEGIN:VEVENT
SUMMARY:Elternworkshop zu Sexuelle Entwicklung von Kleinkindern
DTSTART:20260317T163000Z
DTEND:20260317T180000Z
DTSTAMP:20260116T162315Z
UID:elternworkshop-zu-sexuelle-entwicklung-von-kleinkindern-2026-03-17@one
 gov.event
CATEGORIES:Misc,Health,Education
DESCRIPTION:Der Workshop findet Online\, über Teams statt. Anmeldung unte
 r www.jam.ch
LAST-MODIFIED:20260116T162315Z
LOCATION:online
URL:https://www.meggen.ch/event/elternworkshop-zu-sexuelle-entwicklung-von
 -kleinkindern-2026-03-17
END:VEVENT
END:VCALENDAR
