BEGIN:VCALENDAR
VERSION:2.0
PRODID:-//OneGov//onegov.event//
BEGIN:VEVENT
SUMMARY:Freizeitgruppe ABG Meggen
DTSTART:20260625T170000Z
DTEND:20260625T183000Z
DTSTAMP:20260420T073130Z
UID:freizeitgruppe-abg-meggen-2026-06-25@onegov.event
CATEGORIES:Misc,Meetup,Culture
DESCRIPTION:Wir bewegen uns im Freien\, haben Spass\, unterhalten uns in d
 eutscher Sprache und lernen Meggen besser kennen. Die Freizeitgruppe finde
 t von April bis September einmal im Monat statt. Der Treffpunkt und alle D
 etails werden jeweils in unserer WhatsApp-Gruppe 1 Woche im Voraus bekannt
  gegeben. \n\nDas komplette Programm findest du auf unserer Web-Seite unte
 r Events auf www.abgmeggen.ch. \n\nAlle sind willkommen\, Erwachsene\, Jug
 endliche und Kinder!\n\nWir freuen uns auf dich!\nAsylbegleitgruppe Meggen
LAST-MODIFIED:20260420T073130Z
LOCATION:verschiedene Orte in Meggen
URL:https://www.meggen.ch/event/freizeitgruppe-abg-meggen-2026-06-25
END:VEVENT
END:VCALENDAR
