BEGIN:VCALENDAR
VERSION:2.0
PRODID:-//OneGov//onegov.event//
BEGIN:VEVENT
SUMMARY:Frühlingsmarkt auf dem Dorfplatz
DTSTART:20260425T080000Z
DTEND:20260425T140000Z
DTSTAMP:20260331T140353Z
UID:fruehlingsmarkt-auf-dem-dorfplatz-2026-04-25@onegov.event
CATEGORIES:Market
DESCRIPTION:Verkauf von Claro-Produkte\, Fotokarten\, Strick- und Nähware
 n. Der Erlös geht an unsere Projekte in der Dritten Welt.
LAST-MODIFIED:20260331T140353Z
LOCATION:Dorfplatz
URL:https://www.meggen.ch/event/fruehlingsmarkt-auf-dem-dorfplatz-2026-04-
 25
END:VEVENT
END:VCALENDAR
