BEGIN:VCALENDAR
VERSION:2.0
PRODID:-//OneGov//onegov.event//
BEGIN:VEVENT
SUMMARY:Generalversammlung Quartierverein Lerchenbühl-Meggenhorn
DTSTART:20260427T173000Z
DTEND:20260427T200000Z
DTSTAMP:20260413T100952Z
UID:generalversammlung-des-quartiervereins-lerchenbuehl-meggenhorn-2026-04
 -27@onegov.event
CATEGORIES:
DESCRIPTION:Apero: 19.30 Uhr\nGeneralversammlung: 20.00 Uhr 
GEO:47.046972;8.373573
LAST-MODIFIED:20260413T100952Z
LOCATION:Restaurant Pyramide\, Am Dorfplatz 3
URL:https://www.meggen.ch/event/generalversammlung-des-quartiervereins-ler
 chenbuehl-meggenhorn-2026-04-27
END:VEVENT
END:VCALENDAR
