BEGIN:VCALENDAR
VERSION:2.0
PRODID:-//OneGov//onegov.event//
BEGIN:VEVENT
SUMMARY:Kidstreff
DTSTART:20251128T123000Z
DTEND:20251128T144500Z
DTSTAMP:20251102T084551Z
UID:kidstreff-2025-11-28@onegov.event
CATEGORIES:Misc,Meetup
DESCRIPTION:Die Kinderangebote richten sich an alle Kinder aus der 4. bis 
 6. Primarstufe aus Meggen.\n\nDas Angebot «Kidstreff» ist kostenlos und 
 es ist keine Anmeldung erforderlich. Aktuelle Infos zu den geplanten Kinde
 r-Angeboten findet ihr auf unserer Website.\n\nAm Mittwoch findet der Offe
 ne Kidstreff von 13.30 bis 15.45 Uhr statt. Während dieser Zeit können d
 ie Kids ohne Erwartungs- und Leistungsdruck sich im JAM aufhalten\, freisp
 ielen und sich mit Gleichaltrigen treffen. Das Angebot wird von unseren Mi
 tarbeiter*innen der Kinder- und Jugendarbeit Meggen begleitet.\n\nEinmal i
 m Monat findet ein von der «JAM» und mit Unterstützung von Kindern und 
 Jugendlichen organisierter «Action-Kidstreff» statt. Hierbei können bei
  viel Spiel\, Spass und Action\, erlebnisreiche Stunden mit Gleichaltrigen
  verbracht werden. Bei diesem kostenlosen Angebot gelten fixe Zeiten von 1
 3.30-15.45 Uhr\, kommen und gehen ist in Absprache möglich.\n\nBeim Mittw
 irkungstag können Kinder & Jugendliche über den Treff mitbestimmen oder 
 aber auch den öffentlichen Raum in Meggen. Aktuelle Partizipationsprojekt
 e der Gemeinde haben hier Platz damit die Kinder - & Jugendlichen durch ih
 re Ideen mitwirken können. \n\nBei den Projekten werden aktuelle Themen u
 nd Ideen von Jugendlichen aufgegriffen. Teilweise sind es auch Projekte\, 
 welche die Zusammenarbeit fördern und Begegnungen schaffen sollen. Hier m
 uss man sich anmelden. 
LAST-MODIFIED:20251102T084551Z
LOCATION:Hauptstrasse 32a\, 6045 Meggen
URL:https://www.meggen.ch/event/kidstreff-2025-11-28
END:VEVENT
END:VCALENDAR
