BEGIN:VCALENDAR
VERSION:2.0
PRODID:-//OneGov//onegov.event//
BEGIN:VEVENT
SUMMARY:Lesung mit Musikbegleitung
DTSTART:20251125T173000Z
DTEND:20251125T180000Z
DTSTAMP:20251026T075552Z
UID:lesung-mit-musikbegleitung-2025-11-25@onegov.event
CATEGORIES:Music,Reading
DESCRIPTION:Lassen Sie sich von dieser aussergewöhnlichen Verbindung aus 
 Literatur und Musik verzaubern und tauchen Sie in eine Welt ein\, in der W
 orte und Klänge zu einer einzigartigen Symphonie verschmelzen.
LAST-MODIFIED:20251026T075552Z
LOCATION:Hauptstrasse 50\, 6045 Meggen
URL:https://www.meggen.ch/event/lesung-mit-musikbegleitung-2025-11-25
END:VEVENT
END:VCALENDAR
