BEGIN:VCALENDAR
VERSION:2.0
PRODID:-//OneGov//onegov.event//
BEGIN:VEVENT
SUMMARY:MOAT - Meggen Offene Atelier Tour / 20. - 21. Juni 2026
DTSTART:20260620T080000Z
DTEND:20260620T160000Z
DTSTAMP:20260420T073111Z
UID:moat-meggen-offene-atelier-tour-20-21-juni-2026-2026-06-20@onegov.even
 t
CATEGORIES:Art,Misc,Youth,Cinema,Meetup,Culture,Tourism,Exhibition
DESCRIPTION:MOAT - Meggen Offene Atelier Tour\nMeggen wird bunt. Meggen wi
 rd lebendig. Meggen wird Kunst!\nAm Samstag\, 20. Juni\, und Sonntag\, 21.
  Juni 2026\, von 10 bis 18 Uhr\, öffnen 25 Megger Künstlerinnen und Kün
 stler sowie die Galerie Benzeholz\, das Schloss Meggenhorn und die Artothe
 k ihre Türen \nund laden Sie ein\, Kunst hautnah zu erleben.\nReingehen. 
 Staunen. Entdecken. Von Atelier zu Atelier schlendern\, mit Kunstschaffe
 nden ins Gespräch kommen\, Neues sehen\, Unerwartetes finden – MOAT ist
  kein gewöhnlicher Rundgang\, sondern eine kreative Reise durch ganz Megg
 en.\nDieses Jahr wird’s besonders farbenfroh: „MOAT-KIDS“! Überal
 l im Dorf zeigen Kinder und Jugendliche ihre Werke in Schaufenstern. Halte
 n Sie die Augen offen – Meggen verwandelt sich in eine riesige Galerie!\
 nDazu gibt es eine limitierte Postkartenedition mit rund 30 Motiven der ju
 ngen Talente. Frisch gedruckt\, voller Ideen – perfekt zum Verschicken\,
  Sammeln oder einfach zum Freuen.\nSamstagabend = MOAT Filmabend! Der Fi
 lmabend bringt Kinoatmosphäre nach Meggen: „Wo Kinder spielten“ von
  Claudia Steiner\, ein Kurzfilm von Sara Stäuble – und als grosses Fina
 le ein exklusives Testscreening des Spielfilms „Gnade“. Danach: Austau
 sch\, Einblicke und Gespräche mit Regisseur Stefan Jäger und Maskenbildn
 erin Nicole Zingg.\nDie MOAT-TOURKARTE zeigt Ihnen den Weg – Sie bringen
  die Neugier. Am besten kommen Sie entspannt mit öffentlichen Verkehrsmit
 teln\, dem Fahrrad oder einem kostenlosen Nextbike.\n\nWir freuen uns auf 
 Ihren Besuch!\n\nTOURKARTE & weitere Informationen auf:\nhttps://moat-megg
 en.jimdofree.com\n\nDer Postkartenverkauf : (Ab März)\nArtCafè Megg \nDR
 OPA Drogerie Rogger\nLeisa-Li Galerie\nZwyssig Papeterie & Geschenke
LAST-MODIFIED:20260420T073111Z
LOCATION:Meggen
URL:https://www.meggen.ch/event/moat-meggen-offene-atelier-tour-20-21-juni
 -2026-2026-06-20
END:VEVENT
END:VCALENDAR
