BEGIN:VCALENDAR
VERSION:2.0
PRODID:-//OneGov//onegov.event//
BEGIN:VEVENT
SUMMARY:SGF Theater - Seniorenbühne Luzern "Paket im Aaflug"
DTSTART:20260424T120000Z
DTEND:20260424T150000Z
DTSTAMP:20260331T133044Z
UID:sgf-theater-seniorenbuehne-luzern-paket-im-aaflug-2026-04-24@onegov.ev
 ent
CATEGORIES:Misc,Elderly,Theater,Tradition
DESCRIPTION:Auch im 2026 besucht uns die Seniorenbühne Luzern mit einem n
 euen Stück. Ein unterhaltsamer Nachmittag\, wobei die Lachmuskeln bestimm
 t nicht zu kurz kommen\, ist garantiert. Anschliessend laden wir Sie bei e
 inem feinem Dessert noch etwas zum Verweilen ein.
LAST-MODIFIED:20260331T133044Z
LOCATION:Pfarreiheim St. Pius Meggen\, Schlösslistrasse 2\, 6045 Meggen
URL:https://www.meggen.ch/event/sgf-theater-seniorenbuehne-luzern-paket-im
 -aaflug-2026-04-24
END:VEVENT
END:VCALENDAR
