BEGIN:VCALENDAR
VERSION:2.0
PRODID:-//OneGov//onegov.event//
BEGIN:VEVENT
SUMMARY:Tag der offenen Villa
DTSTART:20251116T100000Z
DTEND:20251116T150000Z
DTSTAMP:20250903T134710Z
UID:tag-der-offenen-villa-2025-11-16@onegov.event
CATEGORIES:Concert,Culture
DESCRIPTION:Am Sonntag\, 16. November 2025 öffnet die St. Charles Hall vo
 n 11.00 bis 16.00 Uhr ihre Türen. \nBesuchen Sie die sonst nicht öffentl
 ich zugängliche Villa\, geniessen Sie verschiedene Konzerte der Musikschu
 le Meggen und Adligenswil und erfahren Sie auf einer spannenden Führung\,
  wer in diesem Haus ein- und ausgegangen ist. 
LAST-MODIFIED:20250903T134710Z
LOCATION:St. Charles Hall\, Benzeholzstrasse 41\, 6045 Meggen
URL:https://www.meggen.ch/event/tag-der-offenen-villa-2025-11-16
END:VEVENT
END:VCALENDAR
