BEGIN:VCALENDAR
VERSION:2.0
PRODID:-//OneGov//onegov.event//
BEGIN:VEVENT
SUMMARY:Weihnachtsmarkt Meggen
DTSTART:20251129T100000Z
DTEND:20251129T170000Z
DTSTAMP:20251012T204317Z
UID:weihnachtsmarkt-meggen-2025-11-29@onegov.event
CATEGORIES:Misc,Youth,Meetup,Elderly,Tradition
DESCRIPTION:Auch dieses Jahr ist das Frauennetz.Meggen beim Weihnachtsmark
 t dabei.\nKommen Sie vorbei und drehen Sie am Glücksrad! Wir freuen uns a
 uf Ihren Besuch.\nDer Erlös wird wie immer einer gemeinnützigen Organsat
 ion gespendet.
LAST-MODIFIED:20251012T204317Z
LOCATION:Gemeinde Meggen
URL:https://www.meggen.ch/event/weihnachtsmarkt-meggen-2025-11-29
END:VEVENT
END:VCALENDAR
