BEGIN:VCALENDAR
VERSION:2.0
PRODID:-//OneGov//onegov.event//
BEGIN:VEVENT
SUMMARY:Wörterkreis
DTSTART:20251204T130000Z
DTEND:20251204T150000Z
DTSTAMP:20250220T103216Z
UID:woerterkreis-2025-12-04@onegov.event
CATEGORIES:Culture,Education,Literature
DESCRIPTION:mit Autor und Journalist Christian Hug\, in der Regel am 1. Do
 nnerstag im Monat\, abwechslungsweise in Adligenswil und Meggen\nTermine i
 n Adligenswil: 6.3.\, 1.5.\, 4.9.\, 6.11.
LAST-MODIFIED:20250220T103216Z
LOCATION:Reformierte Kirche Meggen
URL:https://www.meggen.ch/event/woerterkreis-2025-12-04
END:VEVENT
END:VCALENDAR
