BEGIN:VCALENDAR
VERSION:2.0
PRODID:-//OneGov//onegov.event//
BEGIN:VEVENT
SUMMARY:6. Öffentlicher Umweltanlass
DTSTART:20260825T170000Z
DTEND:20260825T190000Z
DTSTAMP:20251215T081828Z
UID:6-offentlicher-umweltanlass-2026-08-25@onegov.event
CATEGORIES:Talk,Party,Politics
DESCRIPTION:Die FDP.Die Liberalen Meggen lädt alle interessierten Meggeri
 nnen und Megger zum 6. Umweltanlass im Badhof Meggen ein. Das Thema des An
 lasses wird noch bekannt gegeben. Der Anlass ist öffentlich\, kostenlos u
 nd ohne Anmeldung.
GEO:47.049042;8.356511
LAST-MODIFIED:20251215T081828Z
LOCATION:Badhof Meggen
URL:https://www.meggen.ch/event-management/6-offentlicher-umweltanlass
END:VEVENT
BEGIN:VEVENT
SUMMARY:Musig am See
DTSTART:20260704T150000Z
DTEND:20260704T223000Z
DTSTAMP:20260413T085007Z
UID:musig-am-see-2026-07-04@onegov.event
CATEGORIES:Party,Concert
DESCRIPTION:Am 04. Juli 2026 geht das smarte Musikfestival auf dem Fridoli
 n-Hofer Platz zum 10. mal über die Bühne. Wiederum rocken 5 Bands mit Bl
 ues\, Rock\, Funk und Jazz den lauschigen Platz direkt am See!\n  
LAST-MODIFIED:20260413T085007Z
LOCATION:Fridolin-Hofer Platz
URL:https://www.meggen.ch/event-management/musig-am-see
END:VEVENT
BEGIN:VEVENT
SUMMARY:Parteiversammlung FDP.Die Liberalen Meggen
DTSTART:20261105T180000Z
DTEND:20261105T200000Z
DTSTAMP:20251215T081900Z
UID:parteiversammlung-fdp-die-liberalen-meggen-2026-11-05@onegov.event
CATEGORIES:Party,Politics
DESCRIPTION:Wir laden Sie ein\, an unserer Parteiversammlung mit anschlies
 sendem Schlummerbecher im Badhof Meggen teilzunehmen. Auch Nicht-Mitgliede
 r sind herzlich eingeladen.
GEO:47.049042;8.356511
LAST-MODIFIED:20251215T081900Z
LOCATION:Badhof Meggen
URL:https://www.meggen.ch/event-management/parteiversammlung-fdp-die-liber
 alen-meggen
END:VEVENT
BEGIN:VEVENT
SUMMARY:Generalversammlung FDP.Die Liberalen Meggen
DTSTART:20260521T170000Z
DTEND:20260521T200000Z
DTSTAMP:20251215T081711Z
UID:generalversammlung-fdp-die-liberalen-meggen-2026-05-21@onegov.event
CATEGORIES:Party,Politics
DESCRIPTION:Wir laden Sie ein\, an unserer Generalversammlung mit anschlie
 ssendem Pasta-Schmaus im Balm Meggen teilzunehmen. Auch Nicht-Mitglieder s
 ind herzlich eingeladen.\n\nFür die Planung des Essens ist eine Anmeldung
  erforderlich. Bitte melden Sie sich bis 10. Mai 2026 via E-Mail an.
GEO:47.044409;8.368242
LAST-MODIFIED:20251215T081711Z
LOCATION:Hotel Restaurant Balm Meggen
URL:https://www.meggen.ch/event-management/generalversammlung-fdp-die-libe
 ralen-meggen
END:VEVENT
END:VCALENDAR
